BEGIN:VCALENDAR
VERSION:2.0
PRODID:-//Gastroparesis: Fighting For Change - ECPv6.5.1.3//NONSGML v1.0//EN
CALSCALE:GREGORIAN
METHOD:PUBLISH
X-WR-CALNAME:Gastroparesis: Fighting For Change
X-ORIGINAL-URL:https://curegp.org
X-WR-CALDESC:Events for Gastroparesis: Fighting For Change
REFRESH-INTERVAL;VALUE=DURATION:PT1H
X-Robots-Tag:noindex
X-PUBLISHED-TTL:PT1H
BEGIN:VTIMEZONE
TZID:America/New_York
BEGIN:DAYLIGHT
TZOFFSETFROM:-0500
TZOFFSETTO:-0400
TZNAME:EDT
DTSTART:20200308T070000
END:DAYLIGHT
BEGIN:STANDARD
TZOFFSETFROM:-0400
TZOFFSETTO:-0500
TZNAME:EST
DTSTART:20201101T060000
END:STANDARD
END:VTIMEZONE
BEGIN:VEVENT
DTSTART;TZID=America/New_York:20200211T173000
DTEND;TZID=America/New_York:20200211T183000
DTSTAMP:20260424T132835
CREATED:20200210T175546Z
LAST-MODIFIED:20200210T175930Z
UID:9273-1581442200-1581445800@curegp.org
SUMMARY:Gastroparesis Support Group by Northwestern Medicine
DESCRIPTION:Classes\, Events and Support Groups\nNorthwestern Medicine offers a wide range of classes\, events and support groups throughout the year – in your local community – to help you live a healthier\, happier and more informed life.\nDo you have a diagnosis of gastroparesis? Are you looking to share your experiences with others with gastroparesis? Are you newly diagnosed with gastroparesis and looking for more information? All patients who have received a diagnosis of gastroparesis are invited to attend this event hosted by the Digestive Health Center’s Behavioral Medicine Program. \nCall to Register 877.926.4664 \n 
URL:https://curegp.org/event/gastroparesis-support-group/
LOCATION:Telephone Meeting\, United States
CATEGORIES:Support
END:VEVENT
END:VCALENDAR