BEGIN:VCALENDAR
VERSION:2.0
PRODID:-//Gastroparesis: Fighting For Change - ECPv6.5.1.3//NONSGML v1.0//EN
CALSCALE:GREGORIAN
METHOD:PUBLISH
X-ORIGINAL-URL:https://curegp.org
X-WR-CALDESC:Events for Gastroparesis: Fighting For Change
REFRESH-INTERVAL;VALUE=DURATION:PT1H
X-Robots-Tag:noindex
X-PUBLISHED-TTL:PT1H
BEGIN:VTIMEZONE
TZID:America/New_York
BEGIN:DAYLIGHT
TZOFFSETFROM:-0500
TZOFFSETTO:-0400
TZNAME:EDT
DTSTART:20200308T070000
END:DAYLIGHT
BEGIN:STANDARD
TZOFFSETFROM:-0400
TZOFFSETTO:-0500
TZNAME:EST
DTSTART:20201101T060000
END:STANDARD
TZID:America/Los_Angeles
BEGIN:DAYLIGHT
TZOFFSETFROM:-0800
TZOFFSETTO:-0700
TZNAME:PDT
DTSTART:20200308T100000
END:DAYLIGHT
BEGIN:STANDARD
TZOFFSETFROM:-0700
TZOFFSETTO:-0800
TZNAME:PST
DTSTART:20201101T090000
END:STANDARD
END:VTIMEZONE
BEGIN:VEVENT
DTSTART;TZID=America/New_York:20200720T110000
DTEND;TZID=America/New_York:20200727T120000
DTSTAMP:20260424T080408
CREATED:20200720T173917Z
LAST-MODIFIED:20200720T173918Z
UID:15171-1595242800-1595851200@curegp.org
SUMMARY:GASTROPARESIS AWARENESS MONTH PHOTO CONTEST
DESCRIPTION:In honor of Gastroparesis Awareness Month (August 2020)\, we are giving away a set of our GP dog tags via random drawing to 2 community members. \nIn keeping with our #WarOnGP #GPRevolution theme\, we ask that you submit a photo demonstrating how you fight GP.  Be creative!  We love to see your awareness shirts\, ribbons\, signs\, beautiful smiling faces\, family members\, friends\, good times\, hardships\, and all other displays of support for Gastroparesis Awareness Month. \nTo enter this contest visit GASTROPARESIS AWARENESS MONTH PHOTO CONTEST
URL:https://curegp.org/event/gastroparesis-awareness-month-photo-contest/
LOCATION:Online
ORGANIZER;CN="GPFFC":MAILTO:info@curegp.org
END:VEVENT
BEGIN:VEVENT
DTSTART;TZID=America/New_York:20200620T090000
DTEND;TZID=America/New_York:20200702T200000
DTSTAMP:20260424T080408
CREATED:20200619T203957Z
LAST-MODIFIED:20200619T203957Z
UID:14691-1592643600-1593720000@curegp.org
SUMMARY:Gastroparesis Warrior Shirt Contest
DESCRIPTION:In honor of Gastroparesis Awareness Month\, we are giving away one of our #WarOnGP gastroparesis warrior shirts. \nGastroparesis Warrior Shirt Contest
URL:https://curegp.org/event/gastroparesis-warrior-shirt-contest/
LOCATION:Online
CATEGORIES:GPFFC Contests
ORGANIZER;CN="GPFFC":MAILTO:info@curegp.org
END:VEVENT
BEGIN:VEVENT
DTSTART;TZID=America/Los_Angeles:20200314T140000
DTEND;TZID=America/Los_Angeles:20200314T153000
DTSTAMP:20260424T080408
CREATED:20200215T191610Z
LAST-MODIFIED:20200215T202429Z
UID:9555-1584194400-1584199800@curegp.org
SUMMARY:Gastroparesis: Fighting for Change California Meet & Greet
DESCRIPTION:Ms. Nikki Marie will be hosting a meet and greet in Bakersfield\, CA\, on Saturday\, March 14\, from 2:00-3:30 PM PDT \nThe event will be a gathering for GP patients\, friends\, & family to come together to share common experiences. Beverages and light snacks will be provided. \nFor additional information and to RSVP\, please see the “Events” section of our California state group at https://www.facebook.com/groups/Gastroparesis.FightingForChange.CA/.
URL:https://curegp.org/event/gastroparesis-fighting-for-change-california-meet-greet/
LOCATION:CA\, United States
CATEGORIES:GFFC Meet and Greet
ORGANIZER;CN="GPFFC":MAILTO:info@curegp.org
END:VEVENT
BEGIN:VEVENT
DTSTART;TZID=America/New_York:20200211T173000
DTEND;TZID=America/New_York:20200211T183000
DTSTAMP:20260424T080408
CREATED:20200210T175546Z
LAST-MODIFIED:20200210T175930Z
UID:9273-1581442200-1581445800@curegp.org
SUMMARY:Gastroparesis Support Group by Northwestern Medicine
DESCRIPTION:Classes\, Events and Support Groups\nNorthwestern Medicine offers a wide range of classes\, events and support groups throughout the year – in your local community – to help you live a healthier\, happier and more informed life.\nDo you have a diagnosis of gastroparesis? Are you looking to share your experiences with others with gastroparesis? Are you newly diagnosed with gastroparesis and looking for more information? All patients who have received a diagnosis of gastroparesis are invited to attend this event hosted by the Digestive Health Center’s Behavioral Medicine Program. \nCall to Register 877.926.4664 \n 
URL:https://curegp.org/event/gastroparesis-support-group/
LOCATION:Telephone Meeting\, United States
CATEGORIES:Support
END:VEVENT
END:VCALENDAR